BEGIN:VCALENDAR
VERSION:2.0
PRODID:-//eventon.com NONSGML v1.0//EN
CALSCALE:GREGORIAN
METHOD:PUBLISH
BEGIN:VEVENT
UID:69e73cb72601f
DTSTAMP:20260421T090039Z
DTSTART:20251211T173000Z
DTEND:20251211T213000Z
LOCATION:
SUMMARY:privater Kochclub "Sterneköche" Weihnachtskochen- geschlossene Gesellschaft
DESCRIPTION:Sollten Sie ebenfalls an einer solchen Veranstaltung Interesse 
 haben\,  kontaktieren Sie mich über das unten stehende Kontaktformular.\nh
 ttps://kochtreff-farbenkueche.de/events/privater-kochclub-sternekoeche-weih
 nachtskochen-geschlossene-gesellschaft
URL:https://kochtreff-farbenkueche.de/events/privater-kochclub-sternekoeche-weihnachtskochen-geschlossene-gesellschaft
END:VEVENT
END:VCALENDAR