BEGIN:VCALENDAR
VERSION:2.0
PRODID:-//eventon.com NONSGML v1.0//EN
CALSCALE:GREGORIAN
METHOD:PUBLISH
BEGIN:VEVENT
UID:69e73adbcb050
DTSTAMP:20260421T085243Z
DTSTART:20250325T170000Z
DTEND:20250325T200000Z
LOCATION:Kochtreff Farbenküche Am Brauhaus 18\,  41352 Korschenbroich
SUMMARY:Kochkurs: Vegetarische Rundreise – Kulinarische Entdeckungsreise
DESCRIPTION:In diesem Kochkurs begeben wir uns auf eine kulinarische Reise 
 – und das ganz ohne Fleisch! Wir bereiten vegetarische Gerichte aus versc
 hiedenen Ländern zu\,  die die Geschmäcker und Traditionen der jeweiligen
  Region widerspiegeln. Die Teilnehmer lernen neue Zubereitungstechniken und
  entdecken\,  wie abwechslungsreich und lecker vegetarische Küche sein kan
 n.Für alle\,  die[..]\nhttps://kochtreff-farbenkueche.de/events/kochkurs-v
 egetarische-rundreise-kulinarische-entdeckungsreise
URL:https://kochtreff-farbenkueche.de/events/kochkurs-vegetarische-rundreise-kulinarische-entdeckungsreise
END:VEVENT
END:VCALENDAR